BEGIN:VCALENDAR
VERSION:2.0
PRODID:icalendar-ruby
CALSCALE:GREGORIAN
METHOD:PUBLISH
BEGIN:VEVENT
DTSTAMP:20260420T062545Z
UID:11-792950@fumcnebcity.org
DTSTART:20261014T000000Z
DTEND:20261014T010000Z
CLASS:PUBLIC
CREATED:20260419T230953
DESCRIPTION:Apple Corps Barbershop Chorus
LAST-MODIFIED:20260419T230953
LOCATION:Gage Hall
SUMMARY:Apple Corps Barbershop Chorus
URL;VALUE=URI:https://fumcnebcity.org/events/apple-corps-barbershop-chorus/
 2026-10-13
ATTACH;FILENAME=music_av-05.jpg;FMTTYPE=image/jpeg:https://dq5pwpg1q8ru0.cl
 oudfront.net/2025/08/20/15/10/28/2c1130ee-e4a2-43f0-89d5-66dd468feb8f/musi
 c_av-05.jpg
END:VEVENT
END:VCALENDAR
